BEGIN:VCALENDAR
VERSION:2.0
PRODID:-//FEDEAL - ECPv6.3.2//NONSGML v1.0//EN
CALSCALE:GREGORIAN
METHOD:PUBLISH
X-ORIGINAL-URL:http://fedeal.org
X-WR-CALDESC:Eventos para FEDEAL
REFRESH-INTERVAL;VALUE=DURATION:PT1H
X-Robots-Tag:noindex
X-PUBLISHED-TTL:PT1H
BEGIN:VTIMEZONE
TZID:UTC
BEGIN:STANDARD
TZOFFSETFROM:+0000
TZOFFSETTO:+0000
TZNAME:UTC
DTSTART:20240101T000000
END:STANDARD
END:VTIMEZONE
BEGIN:VEVENT
DTSTART;TZID=UTC:20240619T160000
DTEND;TZID=UTC:20240619T200000
DTSTAMP:20260423T215401
CREATED:20240612T024102Z
LAST-MODIFIED:20240612T024102Z
UID:3669-1718812800-1718827200@fedeal.org
SUMMARY:Hablemos de lipedema | Junio: Mes de visibilización del lipedema
DESCRIPTION:
URL:http://fedeal.org/evento/hablemos-de-lipedema-junio-mes-de-visibilizacion-del-lipedema/
LOCATION:Centro Joaquin Roncal\, c/ San Braulio\, 5-7\, Zaragoza\, Zaragoza\, España
CATEGORIES:ADPLA
ATTACH;FMTTYPE=image/jpeg:http://fedeal.org/wp-content/uploads/2024/06/2024-06-11-ADPLA-Hablemos-de-Lipedema.jpg
ORGANIZER;CN="ADPLA":MAILTO:adplaragon@hotmail.com
END:VEVENT
END:VCALENDAR