BEGIN:VCALENDAR
VERSION:2.0
PRODID:-//FEDEAL - ECPv6.3.2//NONSGML v1.0//EN
CALSCALE:GREGORIAN
METHOD:PUBLISH
X-WR-CALNAME:FEDEAL
X-ORIGINAL-URL:http://fedeal.org
X-WR-CALDESC:Eventos para FEDEAL
REFRESH-INTERVAL;VALUE=DURATION:PT1H
X-Robots-Tag:noindex
X-PUBLISHED-TTL:PT1H
BEGIN:VTIMEZONE
TZID:UTC
BEGIN:STANDARD
TZOFFSETFROM:+0000
TZOFFSETTO:+0000
TZNAME:UTC
DTSTART:20230101T000000
END:STANDARD
END:VTIMEZONE
BEGIN:VEVENT
DTSTART;TZID=UTC:20231124T083000
DTEND;TZID=UTC:20231125T133000
DTSTAMP:20260424T125629
CREATED:20231113T143743Z
LAST-MODIFIED:20231113T143743Z
UID:3173-1700814600-1700919000@fedeal.org
SUMMARY:II Jornadas de ADPLA | Linfedema y lipedema: presente y futuro
DESCRIPTION:
URL:http://fedeal.org/evento/ii-jornadas-de-adpla-linfedema-y-lipedema-presente-y-futuro/
LOCATION:Instituto Aragonés de la Juventud\, c/ Franco y López\, 4\, Zaragoza\, Zaragoza\, España
CATEGORIES:ADPLA
ATTACH;FMTTYPE=image/jpeg:http://fedeal.org/wp-content/uploads/2023/11/2023-11-13-ADPLA-II-Jornadas.jpg
ORGANIZER;CN="ADPLA":MAILTO:adplaragon@hotmail.com
END:VEVENT
END:VCALENDAR