BEGIN:VCALENDAR
VERSION:2.0
PRODID:-//FEDEAL - ECPv6.3.2//NONSGML v1.0//EN
CALSCALE:GREGORIAN
METHOD:PUBLISH
X-WR-CALNAME:FEDEAL
X-ORIGINAL-URL:http://fedeal.org
X-WR-CALDESC:Eventos para FEDEAL
REFRESH-INTERVAL;VALUE=DURATION:PT1H
X-Robots-Tag:noindex
X-PUBLISHED-TTL:PT1H
BEGIN:VTIMEZONE
TZID:UTC
BEGIN:STANDARD
TZOFFSETFROM:+0000
TZOFFSETTO:+0000
TZNAME:UTC
DTSTART:20230101T000000
END:STANDARD
END:VTIMEZONE
BEGIN:VEVENT
DTSTART;TZID=UTC:20230608T180000
DTEND;TZID=UTC:20230608T200000
DTSTAMP:20260423T234808
CREATED:20230605T092105Z
LAST-MODIFIED:20230606T021354Z
UID:2879-1686247200-1686254400@fedeal.org
SUMMARY:Junio\, mes del lipedema | Charla | Lipedema y compresión\, binomio necesario
DESCRIPTION:
URL:http://fedeal.org/evento/junio-mes-del-lipedema-charla-lipedema-y-compresion-binomio-necesario/
LOCATION:Guipuzkoa
CATEGORIES:AGADELPRISE
ATTACH;FMTTYPE=image/jpeg:http://fedeal.org/wp-content/uploads/2023/06/2023-06-05-AGADELPRISE-Mes-lipedema.jpg
END:VEVENT
BEGIN:VEVENT
DTSTART;TZID=UTC:20230617T100000
DTEND;TZID=UTC:20230617T120000
DTSTAMP:20260423T234808
CREATED:20230605T093446Z
LAST-MODIFIED:20230606T021701Z
UID:2888-1686996000-1687003200@fedeal.org
SUMMARY:Junio\, mes del lipedema | Quedada "Lippy" Topaketa
DESCRIPTION:
URL:http://fedeal.org/evento/mes-del-lipedema-quedada-lippy-topaketa/
LOCATION:Reloj de la Concha\, Donostia-San Sebastián\, Guipuzkoa\, España
CATEGORIES:AGADELPRISE
ATTACH;FMTTYPE=image/jpeg:http://fedeal.org/wp-content/uploads/2023/06/2023-06-05-AGADELPRISE-Mes-lipedema.jpg
END:VEVENT
BEGIN:VEVENT
DTSTART;TZID=UTC:20230629T183000
DTEND;TZID=UTC:20230629T203000
DTSTAMP:20260423T234808
CREATED:20230605T094007Z
LAST-MODIFIED:20230606T021711Z
UID:2891-1688063400-1688070600@fedeal.org
SUMMARY:Junio\, mes del lipedema | Charla | Mujer y lipedema
DESCRIPTION:
URL:http://fedeal.org/evento/mes-del-lipedema-charla-mujer-y-lipedema/
LOCATION:Casa de la Mujer\, c/ Okendo\, 9\, Donostia-San Sebastián\, Guipuzkoa\, España
CATEGORIES:AGADELPRISE
ATTACH;FMTTYPE=image/jpeg:http://fedeal.org/wp-content/uploads/2023/06/2023-06-05-AGADELPRISE-Mes-lipedema.jpg
END:VEVENT
END:VCALENDAR