BEGIN:VCALENDAR
VERSION:2.0
PRODID:-//FEDEAL - ECPv6.3.2//NONSGML v1.0//EN
CALSCALE:GREGORIAN
METHOD:PUBLISH
X-ORIGINAL-URL:http://fedeal.org
X-WR-CALDESC:Eventos para FEDEAL
REFRESH-INTERVAL;VALUE=DURATION:PT1H
X-Robots-Tag:noindex
X-PUBLISHED-TTL:PT1H
BEGIN:VTIMEZONE
TZID:UTC
BEGIN:STANDARD
TZOFFSETFROM:+0000
TZOFFSETTO:+0000
TZNAME:UTC
DTSTART:20230101T000000
END:STANDARD
END:VTIMEZONE
BEGIN:VEVENT
DTSTART;TZID=UTC:20230220T000000
DTEND;TZID=UTC:20230305T235900
DTSTAMP:20260424T074007
CREATED:20230224T225349Z
LAST-MODIFIED:20230224T225723Z
UID:2790-1676851200-1678060740@fedeal.org
SUMMARY:Concurso de fotografía 'Todos somos asimétricos'
DESCRIPTION:
URL:http://fedeal.org/evento/concurso-de-fotografia-todas-somos-asimetricas/
LOCATION:Guipuzkoa
CATEGORIES:AGADELPRISE
ATTACH;FMTTYPE=image/jpeg:http://fedeal.org/wp-content/uploads/2023/02/calendario-2023-03-07-agadelprise-concurso-fotografia.jpg
END:VEVENT
END:VCALENDAR