BEGIN:VCALENDAR
VERSION:2.0
PRODID:-//FEDEAL - ECPv6.3.2//NONSGML v1.0//EN
CALSCALE:GREGORIAN
METHOD:PUBLISH
X-WR-CALNAME:FEDEAL
X-ORIGINAL-URL:http://fedeal.org
X-WR-CALDESC:Eventos para FEDEAL
REFRESH-INTERVAL;VALUE=DURATION:PT1H
X-Robots-Tag:noindex
X-PUBLISHED-TTL:PT1H
BEGIN:VTIMEZONE
TZID:UTC
BEGIN:STANDARD
TZOFFSETFROM:+0000
TZOFFSETTO:+0000
TZNAME:UTC
DTSTART:20240101T000000
END:STANDARD
END:VTIMEZONE
BEGIN:VEVENT
DTSTART;TZID=UTC:20240606T170000
DTEND;TZID=UTC:20240606T183000
DTSTAMP:20260423T061621
CREATED:20240531T062457Z
LAST-MODIFIED:20240531T062457Z
UID:3648-1717693200-1717698600@fedeal.org
SUMMARY:Foros Lipedema Taldea | Mesa redonda: Cirugía
DESCRIPTION:
URL:http://fedeal.org/evento/foros-lipedema-taldea-mesa-redonda-cirugia/
LOCATION:Txara I\, Paseo Zarategui\, 100\, Donostia-San Sebastián\, Guipuzkoa\, 20015\, España
CATEGORIES:AGADELPRISE
ATTACH;FMTTYPE=image/jpeg:http://fedeal.org/wp-content/uploads/2024/05/2024-05-31-AGADELPRISE-Foro-lipedema.jpg
END:VEVENT
END:VCALENDAR