BEGIN:VCALENDAR
VERSION:2.0
PRODID:-//FEDEAL - ECPv6.3.2//NONSGML v1.0//EN
CALSCALE:GREGORIAN
METHOD:PUBLISH
X-WR-CALNAME:FEDEAL
X-ORIGINAL-URL:http://fedeal.org
X-WR-CALDESC:Eventos para FEDEAL
REFRESH-INTERVAL;VALUE=DURATION:PT1H
X-Robots-Tag:noindex
X-PUBLISHED-TTL:PT1H
BEGIN:VTIMEZONE
TZID:UTC
BEGIN:STANDARD
TZOFFSETFROM:+0000
TZOFFSETTO:+0000
TZNAME:UTC
DTSTART:20240101T000000
END:STANDARD
END:VTIMEZONE
BEGIN:VEVENT
DTSTART;TZID=UTC:20241202T100000
DTEND;TZID=UTC:20250108T210000
DTSTAMP:20260425T160048
CREATED:20241211T070434Z
LAST-MODIFIED:20241211T070743Z
UID:3773-1733133600-1736370000@fedeal.org
SUMMARY:El linfedema al desnudo | Exposición fotográfica
DESCRIPTION:
URL:http://fedeal.org/evento/el-linfedema-al-desnudo-exposicion-fotografica/
LOCATION:Ilustre Colegio de Médicos de Madrid\, c/ Santa Isabel\, 51\, Madrid\, Madrid\, 28012\, Spain
CATEGORIES:AMAL
ATTACH;FMTTYPE=image/jpeg:http://fedeal.org/wp-content/uploads/2024/12/2024-12-11-Exposicion-El-linfedema-al-desnudo.jpg
END:VEVENT
END:VCALENDAR